BEGIN:VCALENDAR
VERSION:2.0
PRODID:-//Puget Soundkeeper Alliance - ECPv6.2.0.1//NONSGML v1.0//EN
CALSCALE:GREGORIAN
METHOD:PUBLISH
X-WR-CALNAME:Puget Soundkeeper Alliance
X-ORIGINAL-URL:https://pugetsoundkeeper.org
X-WR-CALDESC:Events for Puget Soundkeeper Alliance
REFRESH-INTERVAL;VALUE=DURATION:PT1H
X-Robots-Tag:noindex
X-PUBLISHED-TTL:PT1H
BEGIN:VTIMEZONE
TZID:America/Los_Angeles
BEGIN:DAYLIGHT
TZOFFSETFROM:-0800
TZOFFSETTO:-0700
TZNAME:PDT
DTSTART:20230312T100000
END:DAYLIGHT
BEGIN:STANDARD
TZOFFSETFROM:-0700
TZOFFSETTO:-0800
TZNAME:PST
DTSTART:20231105T090000
END:STANDARD
END:VTIMEZONE
BEGIN:VEVENT
DTSTART;TZID=America/Los_Angeles:20230910T094500
DTEND;TZID=America/Los_Angeles:20230910T120000
DTSTAMP:20230907T094141
CREATED:20230823T201658Z
LAST-MODIFIED:20230823T201658Z
UID:22039-1694339100-1694347200@pugetsoundkeeper.org
SUMMARY:International Coastal Cleanup: Union Bay\, Seattle
DESCRIPTION:This volunteer-led event launches from the University of Washington Waterfront Activities Center. Meet at WAC and rent a kayak ($38)\, then paddle toward the Union Bay wildlife area to clean debris from Lake Washington. This marshland provides critical habitat for an astounding array of urban wildlife. Maybe you’ll catch a glimpse of a river otter\, beaver\, turtle\, eagle\, heron or osprey while you work! \nDetails:  \nMinimum age: 16 years old \nKayaks: Open\, cock-pit style \nExperience: Not required \nCleanup tools: Provided \nGear: Dress for the weather and expect to get wet \nRegistration is required for this event. Click here to email volunteer coordinator Sarah Phillips and confirm your spot. There are only eight spots available for each paddle.
URL:https://pugetsoundkeeper.org/event/icc-union-bay-2023/
LOCATION:Waterfront Activities Center\, 3710 Montlake Blvd NE\, Seattle\, WA\, 98195\, United States
CATEGORIES:Cleanup Events
ATTACH;FMTTYPE=image/jpeg:https://pugetsoundkeeper.org/wp-content/uploads/2022/11/Kayak-Patrol.jpg
END:VEVENT
BEGIN:VEVENT
DTSTART;TZID=America/Los_Angeles:20230916T100000
DTEND;TZID=America/Los_Angeles:20230916T120000
DTSTAMP:20230907T094141
CREATED:20230823T194748Z
LAST-MODIFIED:20230823T203019Z
UID:22030-1694858400-1694865600@pugetsoundkeeper.org
SUMMARY:International Coastal Cleanup: Seahurst Park\, Burien
DESCRIPTION:The Environmental Science Center in Burien leads this International Coastal Cleanup event on Saturday\, September 16th from 10am–12pm. The City of Burien sponsors efforts at Seahurst Park\, so come and join your neighbors for this all-ages cleanup event. Use the signup button to fill out the required registration form\, and allow 10 minutes to get to the ESC building after arriving in their parking lot. \n 
URL:https://pugetsoundkeeper.org/event/icc-burien-2023/
LOCATION:Seahurst Park\, 1600 SW Seahurst Park Rd\, Burien\, WA\, 98166\, United States
CATEGORIES:Cleanup Events
ATTACH;FMTTYPE=image/png:https://pugetsoundkeeper.org/wp-content/uploads/2023/01/Website-homepage-slideshow-2.png
END:VEVENT
BEGIN:VEVENT
DTSTART;TZID=America/Los_Angeles:20230916T100000
DTEND;TZID=America/Los_Angeles:20230916T120000
DTSTAMP:20230907T094141
CREATED:20230823T195912Z
LAST-MODIFIED:20230823T202946Z
UID:22034-1694858400-1694865600@pugetsoundkeeper.org
SUMMARY:International Coastal Cleanup: Cherry Point\, Ferndale
DESCRIPTION:  \nJoin our friends at RE Sources and Surfrider Foundation for a beach cleanup at Cherry Point Aquatic Preserve on International Coastal Cleanup day! Cleanup materials and tasty bagels from The Bagelry will be provided at this family-friendly event.
URL:https://pugetsoundkeeper.org/event/icc-cherry-point-2023/
LOCATION:Cherry Point\, 4601-4609 Gulf Road\, Ferndale\, WA\, 98248\, United States
CATEGORIES:Cleanup Events
ATTACH;FMTTYPE=image/png:https://pugetsoundkeeper.org/wp-content/uploads/2023/01/Website-homepage-slideshow-2.png
END:VEVENT
BEGIN:VEVENT
DTSTART;TZID=America/Los_Angeles:20230916T100000
DTEND;TZID=America/Los_Angeles:20230916T140000
DTSTAMP:20230907T094141
CREATED:20230823T213529Z
LAST-MODIFIED:20230831T182153Z
UID:22055-1694858400-1694872800@pugetsoundkeeper.org
SUMMARY:International Coastal Cleanup: West Seattle Ecology Fair
DESCRIPTION:Environmental groups from throughout Puget Sound will convene at Our Lady of Guadalupe Catholic Church for an ecology fair\, with opportunities to get involved and help protect the environment. Puget Soundkeeper will host a booth and pop-up cleanup activity\, with all tools and International Coastal Cleanup materials provided. Bring your family and stop on by!
URL:https://pugetsoundkeeper.org/event/icc-west-seattle-2023/
LOCATION:Our Lady of Guadalupe Catholic Church\, 7000 35th Ave SW\, Seattle\, WA\, 98126\, United States
CATEGORIES:Community Events
ATTACH;FMTTYPE=image/png:https://pugetsoundkeeper.org/wp-content/uploads/2023/07/Emily_2.png
END:VEVENT
BEGIN:VEVENT
DTSTART;TZID=America/Los_Angeles:20230916T120000
DTEND;TZID=America/Los_Angeles:20230916T150000
DTSTAMP:20230907T094141
CREATED:20230824T173250Z
LAST-MODIFIED:20230824T173250Z
UID:22065-1694865600-1694876400@pugetsoundkeeper.org
SUMMARY:International Coastal Cleanup: Duwamish River\, Seattle
DESCRIPTION:  \nRiver Access Paddle Program (RAPP) invites community members to BYOBoat for a Duwamish River tour and International Coastal Cleanup event. Participants will visit the areas around the He?apus Village site and Kellogg Island\, and view ongoing restoration along the river. \nDress for the weather and be prepared to get wet and muddy as you remove marine debris\, plastic and other garbage from the Duwamish River. This event runs from 12pm–3pm and time on the water will be between 90 minutes–2.5 hours. \nEvent details\nParking lot address: 4570 W Marginal Way SW\, Seattle\, WA 98106\nHerrings House Park is located just east of the Duwamish Longhouse. Park in the lot and walk towards the water. Follow the path and meet at the green warehouse south of the parking lot. \nImportant: This is a BYOBoat event. There are NO onsite kayak\, canoe\, or SUP rentals. Please bring your own and be prepared to transport it to the water. Bring your own water\, but snacks will be provided. \nFill out RAPP’s safety waiver and complete your registration by clicking the sign up button above.
URL:https://pugetsoundkeeper.org/event/icc-duwamish-2023/
LOCATION:Herrings House Park\, 4570 W Marginal Way SW\, Seattle\, WA\, 98106\, United States
CATEGORIES:Cleanup Events
ATTACH;FMTTYPE=image/jpeg:https://pugetsoundkeeper.org/wp-content/uploads/2022/11/Kayak-Patrol.jpg
END:VEVENT
BEGIN:VEVENT
DTSTART;TZID=America/Los_Angeles:20230916T140000
DTEND;TZID=America/Los_Angeles:20230916T160000
DTSTAMP:20230907T094141
CREATED:20230823T204232Z
LAST-MODIFIED:20230823T204232Z
UID:22044-1694872800-1694880000@pugetsoundkeeper.org
SUMMARY:International Coastal Cleanup: Magnuson Park\, Seattle
DESCRIPTION:Join Puget Soundkeeper staff for a walking cleanup on Saturday\, September 16th along the shores of Lake Washington’s Magnuson Park. This family-friendly afternoon event is part of the International Coastal Cleanup movement to remove marine debris from our waterways. Join your neighbors from 2pm–4pm and contribute to a global data set that helps prevent plastic pollution.
URL:https://pugetsoundkeeper.org/event/icc-magnuson-2023/
LOCATION:Magnuson Park\, 7400 Sand Point Way NE\, Seattle\, WA\, 98115\, United States
CATEGORIES:Cleanup Events
ATTACH;FMTTYPE=image/png:https://pugetsoundkeeper.org/wp-content/uploads/2023/01/Website-homepage-slideshow-2.png
END:VEVENT
BEGIN:VEVENT
DTSTART;TZID=America/Los_Angeles:20230923T083000
DTEND;TZID=America/Los_Angeles:20230923T140000
DTSTAMP:20230907T094141
CREATED:20230824T175715Z
LAST-MODIFIED:20230831T184751Z
UID:22078-1695457800-1695477600@pugetsoundkeeper.org
SUMMARY:International Coastal Cleanup: Des Moines Marina\, Des Moines
DESCRIPTION:SR3 Sealife Response\, Rehabilitation\, and Research\, and Seattle Dive Tours are joining forces on September 23 for an exciting underwater cleanup at the Des Moines Marina! This event requires volunteers with dive certification (AOW+)\, as well as people willing to provide shore support. Everyone can play a part in keeping our marinas healthy for people and wildlife. \nImportant: Volunteer divers with Advanced Open Water certification or higher can also earn the PADI Dive Against Debris specialty at this event! Non-divers can expect to remove litter from the shoreline and help sort marine debris removed from the marina. \nThank you to the many organizations helping to make this special event possible: City of Des Moines\, Des Moines Marina\, Des Moines Waterfront Farmers Market\, Seattle Dive Tours\, Highline College MaST Center Aquarium\, SR3\, Washington Scuba Alliance\, Public Health Seattle & King County\, and King County Poogooders.
URL:https://pugetsoundkeeper.org/event/icc-des-moines-2023/
CATEGORIES:Cleanup Events
ATTACH;FMTTYPE=image/png:https://pugetsoundkeeper.org/wp-content/uploads/2022/04/2.png
END:VEVENT
BEGIN:VEVENT
DTSTART;TZID=America/Los_Angeles:20230923T100000
DTEND;TZID=America/Los_Angeles:20230923T120000
DTSTAMP:20230907T094141
CREATED:20230823T011922Z
LAST-MODIFIED:20230823T202849Z
UID:22018-1695463200-1695470400@pugetsoundkeeper.org
SUMMARY:International Coastal Cleanup: Bicentennial Park\, Tukwila
DESCRIPTION:Join Puget Soundkeeper\, Unleash The Brilliance\, and Tukwila Parks and Recreation for an International Coastal Cleanup event on Saturday\, September 23. This family-friendly event brings neighbors together to care for Bicentennial Park and the adjacent Green River Trail. \n 
URL:https://pugetsoundkeeper.org/event/icc-tukwila-2023/
LOCATION:Bicentennial Park\, 7200 Strander Blvd\, Tukwila\, WA\, 98188\, United States
CATEGORIES:Cleanup Events
ATTACH;FMTTYPE=image/png:https://pugetsoundkeeper.org/wp-content/uploads/2023/01/Website-homepage-slideshow-2.png
END:VEVENT
BEGIN:VEVENT
DTSTART;TZID=America/Los_Angeles:20230924T094500
DTEND;TZID=America/Los_Angeles:20230924T120000
DTSTAMP:20230907T094141
CREATED:20230823T201947Z
LAST-MODIFIED:20230823T201947Z
UID:22042-1695548700-1695556800@pugetsoundkeeper.org
SUMMARY:International Coastal Cleanup: Union Bay\, Seattle
DESCRIPTION:This volunteer-led event launches from the University of Washington Waterfront Activities Center. Meet at WAC and rent a kayak ($38)\, then paddle toward the Union Bay wildlife area to clean debris from Lake Washington. This marshland provides critical habitat for an astounding array of urban wildlife. Maybe you’ll catch a glimpse of a river otter\, beaver\, turtle\, eagle\, heron or osprey while you work! \nDetails:  \nMinimum age: 16 years old \nKayaks: Open\, cock-pit style \nExperience: Not required \nCleanup tools: Provided \nGear: Dress for the weather and expect to get wet \nRegistration is required for this event. Click here to email volunteer coordinator Sarah Phillips and confirm your spot. There are only eight spots available for each paddle.
URL:https://pugetsoundkeeper.org/event/icc-union-bay-2023-2/
LOCATION:Waterfront Activities Center\, 3710 Montlake Blvd NE\, Seattle\, WA\, 98195\, United States
CATEGORIES:Cleanup Events
ATTACH;FMTTYPE=image/jpeg:https://pugetsoundkeeper.org/wp-content/uploads/2022/11/Kayak-Patrol.jpg
END:VEVENT
BEGIN:VEVENT
DTSTART;TZID=America/Los_Angeles:20230930T100000
DTEND;TZID=America/Los_Angeles:20230930T130000
DTSTAMP:20230907T094141
CREATED:20230823T190513Z
LAST-MODIFIED:20230823T190738Z
UID:22023-1696068000-1696078800@pugetsoundkeeper.org
SUMMARY:International Coastal Cleanup: Bainbridge
DESCRIPTION:  \nJoin Sustainable Bainbridge for a series of International Coastal Cleanup events on Sunday\, September 30. These family-friendly beach cleanups bring neighbors together to care for Bainbridge Island.
URL:https://pugetsoundkeeper.org/event/icc-bainbridge-2023/
CATEGORIES:Cleanup Events
ATTACH;FMTTYPE=image/png:https://pugetsoundkeeper.org/wp-content/uploads/2023/01/Website-homepage-slideshow-2.png
END:VEVENT
BEGIN:VEVENT
DTSTART;TZID=America/Los_Angeles:20231001T110000
DTEND;TZID=America/Los_Angeles:20231001T130000
DTSTAMP:20230907T094141
CREATED:20230831T172906Z
LAST-MODIFIED:20230902T012638Z
UID:22097-1696158000-1696165200@pugetsoundkeeper.org
SUMMARY:International Coastal Cleanup: Richmond Beach Saltwater Park\, Shoreline
DESCRIPTION:Bring your friends\, family\, and neighbors to this accessible beach cleanup in Shoreline! We’ll work together to remove debris from the Richmond Beach parking lot\, shoreline\, and intertidal zone. You might catch a glimpse of curious seals\, graceful herons\, or even one of the resident ospreys! \nInternational Coastal Cleanup is a global effort to remove marine debris and catalogue findings\, moving the needle on pollution prevention policies around the world. \nPuget Soundkeeper staff provide all necessary cleanup materials and safety gear. Dress for the weather and bring your own water. \nNote: The Google Maps address for Richmond Beach takes you to the wrong location. Use these coordinates to find our meeting spot\, at the bottom of the lower parking lot.
URL:https://pugetsoundkeeper.org/event/icc-shoreline-2023/
LOCATION:Richmond Beach
CATEGORIES:Cleanup Events
ATTACH;FMTTYPE=image/png:https://pugetsoundkeeper.org/wp-content/uploads/2023/01/Website-homepage-slideshow-2.png
END:VEVENT
BEGIN:VEVENT
DTSTART;TZID=America/Los_Angeles:20231014T170000
DTEND;TZID=America/Los_Angeles:20231014T210000
DTSTAMP:20230907T094141
CREATED:20220923T203917Z
LAST-MODIFIED:20230814T153001Z
UID:21142-1697302800-1697317200@pugetsoundkeeper.org
SUMMARY:Salute to the Sound 2023
DESCRIPTION:You’re invited to Puget Soundkeeper’s 20th Annual Salute to the Sound Gala and Auction! We look forward to seeing you for a night of special speakers\, delicious food\, amazing auction items\, and even better company. \n \nTickets & Details \n\n \nReception and Silent Auction: 5–7 p.m. \n\n\n\nDinner\, Live Auction\, & Paddle Raise: 7–9 p.m. \n\n\n\nWhere: 2211 Alaskan Way\, Pier 66\, Seattle \n\n\n\nComplimentary onsite parking. \nEnjoy Passed Appetizers\, hosted Northwest Wines\, and local craft beers while mingling and enjoying the spectacular views at Bell Harbor International Conference Center. Head upstairs for a delicious dinner of roasted salmon or vegetarian phyllo pie\, and experience our inspiring program of awards\, speakers\, and clean water highlights. We can’t wait to celebrate with you! \nRSVP today! \n 
URL:https://pugetsoundkeeper.org/event/salute-to-the-sound-2022/
LOCATION:Bell Harbor International Conference Center\, 2211 Alaskan Way\, Seattle\, WA\, 98121\, United States
CATEGORIES:Fundraising Events
END:VEVENT
BEGIN:VEVENT
DTSTART;TZID=America/Los_Angeles:20231020T090000
DTEND;TZID=America/Los_Angeles:20231020T110000
DTSTAMP:20230907T094141
CREATED:20230824T190904Z
LAST-MODIFIED:20230824T190904Z
UID:22084-1697792400-1697799600@pugetsoundkeeper.org
SUMMARY:International Coastal Cleanup: Lake Union\, Seattle
DESCRIPTION: \n\n \n\nThe Seattle Aquarium leads a family-friendly International Coastal Cleanup event along the shores of Lake Union. Bring your neighbors and help clean trash from this much-loved urban waterway. The event runs from 9am–11am and meets at Goose Beach in South Lake Union. Dress for the weather and bring your own water\, snacks\, and sun protection. All cleanup gear will be provided.
URL:https://pugetsoundkeeper.org/event/icc-lake-union-2023/
LOCATION:Goose Beach\, 900 Westlake Ave N\, Seattle\, WA\, 98109\, United States
CATEGORIES:Cleanup Events
ATTACH;FMTTYPE=image/png:https://pugetsoundkeeper.org/wp-content/uploads/2023/01/Website-homepage-slideshow-2.png
END:VEVENT
END:VCALENDAR